BEGIN:VCALENDAR
VERSION:2.0
PRODID:-//Pradamee - ECPv6.15.20//NONSGML v1.0//EN
CALSCALE:GREGORIAN
METHOD:PUBLISH
X-ORIGINAL-URL:https://pradamee.li
X-WR-CALDESC:Veranstaltungen im Pradamee
REFRESH-INTERVAL;VALUE=DURATION:PT1H
X-Robots-Tag:noindex
X-PUBLISHED-TTL:PT1H
BEGIN:VTIMEZONE
TZID:Europe/Zurich
BEGIN:DAYLIGHT
TZOFFSETFROM:+0100
TZOFFSETTO:+0200
TZNAME:CEST
DTSTART:20220327T010000
END:DAYLIGHT
BEGIN:STANDARD
TZOFFSETFROM:+0200
TZOFFSETTO:+0100
TZNAME:CET
DTSTART:20221030T010000
END:STANDARD
BEGIN:DAYLIGHT
TZOFFSETFROM:+0100
TZOFFSETTO:+0200
TZNAME:CEST
DTSTART:20230326T010000
END:DAYLIGHT
BEGIN:STANDARD
TZOFFSETFROM:+0200
TZOFFSETTO:+0100
TZNAME:CET
DTSTART:20231029T010000
END:STANDARD
BEGIN:DAYLIGHT
TZOFFSETFROM:+0100
TZOFFSETTO:+0200
TZNAME:CEST
DTSTART:20240331T010000
END:DAYLIGHT
BEGIN:STANDARD
TZOFFSETFROM:+0200
TZOFFSETTO:+0100
TZNAME:CET
DTSTART:20241027T010000
END:STANDARD
BEGIN:DAYLIGHT
TZOFFSETFROM:+0100
TZOFFSETTO:+0200
TZNAME:CEST
DTSTART:20250330T010000
END:DAYLIGHT
BEGIN:STANDARD
TZOFFSETFROM:+0200
TZOFFSETTO:+0100
TZNAME:CET
DTSTART:20251026T010000
END:STANDARD
BEGIN:DAYLIGHT
TZOFFSETFROM:+0100
TZOFFSETTO:+0200
TZNAME:CEST
DTSTART:20260329T010000
END:DAYLIGHT
BEGIN:STANDARD
TZOFFSETFROM:+0200
TZOFFSETTO:+0100
TZNAME:CET
DTSTART:20261025T010000
END:STANDARD
BEGIN:DAYLIGHT
TZOFFSETFROM:+0100
TZOFFSETTO:+0200
TZNAME:CEST
DTSTART:20270328T010000
END:DAYLIGHT
BEGIN:STANDARD
TZOFFSETFROM:+0200
TZOFFSETTO:+0100
TZNAME:CET
DTSTART:20271031T010000
END:STANDARD
END:VTIMEZONE
BEGIN:VEVENT
DTSTART;TZID=Europe/Zurich:20230909T100000
DTEND;TZID=Europe/Zurich:20230909T140000
DTSTAMP:20260420T120752
CREATED:20230204T174645Z
LAST-MODIFIED:20230904T154630Z
UID:801-1694253600-1694268000@pradamee.li
SUMMARY:Alpabfahrt abgesagt!
DESCRIPTION:Absage der Traditionellen Alpabfahrt nach altem Brauchtum \nLeider muss die traditionelle Alpabfahrt nach altem Brauchtum von diesem Jahr abgesagt werden.Dieses Jahr gab es viele «krumme» Tiere\, aufgrund des zuerst trocknen und dann sehr nassen Wetters. Deshalb wurden bereits einige Kühe schon wieder ins Tal transportiert. \nDer rasante Wetterumschwung\, mit viel Niederschlag und Kälte führte dazu\, dass das Futter die letzte Woche bereits knapp wurde. Die Alpabfahrt war auf den 9. September 2023 geplant. Eine kurzfristige Vorverlegung der Alpabfahrt war leider nicht möglich.
URL:https://pradamee.li/veranstaltung/alpabfahrt/
ORGANIZER;CN="Alpgenossenschaft Vaduz":MAILTO:info@pradamee.li
END:VEVENT
BEGIN:VEVENT
DTSTART;TZID=Europe/Zurich:20260508T193000
DTEND;TZID=Europe/Zurich:20260508T210000
DTSTAMP:20260420T120752
CREATED:20230204T174112Z
LAST-MODIFIED:20251207T080154Z
UID:798-1778268600-1778274000@pradamee.li
SUMMARY:Generalversammlung Alpgenossenschaft Vaduz
DESCRIPTION:Generalversammlung Alpgenossenschaft Vaduz
URL:https://pradamee.li/veranstaltung/generalversammlung-alpgenossenschaft-vaduz/
LOCATION:Feuerwehrdepot Vaduz\, Schaanerstrasse 2\, Vaduz\, 9490\, Liechtenstein
ORGANIZER;CN="Alpgenossenschaft Vaduz":MAILTO:info@pradamee.li
END:VEVENT
BEGIN:VEVENT
DTSTART;TZID=Europe/Zurich:20260530T090000
DTEND;TZID=Europe/Zurich:20260530T160000
DTSTAMP:20260420T120752
CREATED:20250530T080747Z
LAST-MODIFIED:20251207T081057Z
UID:350-1780131600-1780156800@pradamee.li
SUMMARY:1. Freiwilliger Arbeitsdienst
DESCRIPTION:1. Freiwilliger Arbeitsdienst
URL:https://pradamee.li/veranstaltung/1-freiwilliger-arbeitsdienst/
ORGANIZER;CN="Alpgenossenschaft Vaduz":MAILTO:info@pradamee.li
END:VEVENT
BEGIN:VEVENT
DTSTART;TZID=Europe/Zurich:20260606T090000
DTEND;TZID=Europe/Zurich:20260606T160000
DTSTAMP:20260420T120752
CREATED:20230204T173706Z
LAST-MODIFIED:20260325T180655Z
UID:789-1780736400-1780761600@pradamee.li
SUMMARY:2. Freiwilliger Arbeitsdienst
DESCRIPTION:2. Freiwilliger Arbeitsdienst
URL:https://pradamee.li/veranstaltung/2-freiwilliger-arbeitsdienst/
ORGANIZER;CN="Alpgenossenschaft Vaduz":MAILTO:info@pradamee.li
END:VEVENT
BEGIN:VEVENT
DTSTART;TZID=Europe/Zurich:20260613T090000
DTEND;TZID=Europe/Zurich:20260613T160000
DTSTAMP:20260420T120752
CREATED:20250107T175601Z
LAST-MODIFIED:20251207T080544Z
UID:940-1781341200-1781366400@pradamee.li
SUMMARY:Ersatz Arbeitsdienst
DESCRIPTION:Ersatz Arbeitsdienst \nOption zum streichen eines Arbeitsdienstes ja nach Scheeverhältnissen und Wetter
URL:https://pradamee.li/veranstaltung/ersatz-arbeitsdienst/
ORGANIZER;CN="Alpgenossenschaft Vaduz":MAILTO:info@pradamee.li
END:VEVENT
BEGIN:VEVENT
DTSTART;TZID=Europe/Zurich:20260628T110000
DTEND;TZID=Europe/Zurich:20260628T110000
DTSTAMP:20260420T120752
CREATED:20230214T171421Z
LAST-MODIFIED:20251207T080631Z
UID:820-1782644400-1782644400@pradamee.li
SUMMARY:Alpsegnung
DESCRIPTION:
URL:https://pradamee.li/veranstaltung/alpsegnung/
LOCATION:Pradamee\, AlpPradamee\, Malbun\, Liechtenstein
ORGANIZER;CN="Alpgenossenschaft Vaduz":MAILTO:info@pradamee.li
END:VEVENT
BEGIN:VEVENT
DTSTART;TZID=Europe/Zurich:20260905T100000
DTEND;TZID=Europe/Zurich:20260905T140000
DTSTAMP:20260420T120752
CREATED:20240423T175249Z
LAST-MODIFIED:20251207T080722Z
UID:932-1788602400-1788616800@pradamee.li
SUMMARY:Alpabfahrt
DESCRIPTION:Alpabfahrt nach altem Brauchtum \n 
URL:https://pradamee.li/veranstaltung/alpabfahrt-2/
ORGANIZER;CN="Alpgenossenschaft Vaduz":MAILTO:info@pradamee.li
END:VEVENT
BEGIN:VEVENT
DTSTART;TZID=Europe/Zurich:20260912T090000
DTEND;TZID=Europe/Zurich:20260912T160000
DTSTAMP:20260420T120752
CREATED:20230204T173712Z
LAST-MODIFIED:20251207T080809Z
UID:790-1789203600-1789228800@pradamee.li
SUMMARY:3. Freiwilliger Arbeitsdienst
DESCRIPTION:3. Freiwilliger Arbeitsdienst
URL:https://pradamee.li/veranstaltung/3-freiwilliger-arbeitsdienst/
ORGANIZER;CN="Alpgenossenschaft Vaduz":MAILTO:info@pradamee.li
END:VEVENT
BEGIN:VEVENT
DTSTART;TZID=Europe/Zurich:20260919T090000
DTEND;TZID=Europe/Zurich:20260919T160000
DTSTAMP:20260420T120752
CREATED:20230204T173716Z
LAST-MODIFIED:20251207T081117Z
UID:791-1789808400-1789833600@pradamee.li
SUMMARY:4. Freiwilliger Arbeitsdienst
DESCRIPTION:4. Freiwilliger Arbeitsdienst
URL:https://pradamee.li/veranstaltung/4-freiwilliger-arbeitsdienst/
ORGANIZER;CN="Alpgenossenschaft Vaduz":MAILTO:info@pradamee.li
END:VEVENT
BEGIN:VEVENT
DTSTART;VALUE=DATE:20261003
DTEND;VALUE=DATE:20261004
DTSTAMP:20260420T120752
CREATED:20230214T171548Z
LAST-MODIFIED:20251207T080910Z
UID:823-1790985600-1791071999@pradamee.li
SUMMARY:Prämienmarkt Vaduz
DESCRIPTION:
URL:https://pradamee.li/veranstaltung/praemienmarkt-vaduz/
LOCATION:Aubündt\, 4GJC+HQH Vaduz\, Liechtenstein\, Vaduz\, 9490\, Liechtenstein
ORGANIZER;CN="Alpgenossenschaft Vaduz":MAILTO:info@pradamee.li
END:VEVENT
END:VCALENDAR